BEGIN:VCALENDAR
VERSION:2.0
PRODID:-//ChamberMaster//Event Calendar 2.0//EN
METHOD:PUBLISH
X-PUBLISHED-TTL:P3D
REFRESH-INTERVAL:P3D
CALSCALE:GREGORIAN
BEGIN:VEVENT
DTSTART:20310620T030000Z
DTEND:20310620T050000Z
X-MICROSOFT-CDO-ALLDAYEVENT:FALSE
SUMMARY:Chaves County Commission Meeting
DESCRIPTION:The Chaves County Commission meets on the 3rd Thursday of each month at the Administrative Center. \n\n1 Saint Mary's Place
X-ALT-DESC;FMTTYPE=text/html:The Chaves County Commission meets on the 3rd Thursday of each month at the Administrative Center.&nbsp\;<br />\n1 Saint Mary&#39\;s Place
LOCATION:
UID:e.743.1282
SEQUENCE:3
DTSTAMP:20260422T063209Z
URL:https://business.roswellnm.org/events/details/chaves-county-commission-meeting-06-19-2031-1282
END:VEVENT

END:VCALENDAR
