BEGIN:VCALENDAR
VERSION:2.0
PRODID:-//ChamberMaster//Event Calendar 2.0//EN
METHOD:PUBLISH
X-PUBLISHED-TTL:P3D
REFRESH-INTERVAL:P3D
CALSCALE:GREGORIAN
BEGIN:VEVENT
DTSTART:20300523T220000Z
DTEND:20300523T230000Z
X-MICROSOFT-CDO-ALLDAYEVENT:FALSE
SUMMARY:Legal Committee City of Roswell
DESCRIPTION:
X-ALT-DESC;FMTTYPE=text/html:
LOCATION:
UID:e.743.892
SEQUENCE:3
DTSTAMP:20260421T103434Z
URL:https://business.roswellnm.org/events/details/legal-committee-city-of-roswell-05-23-2030-892
END:VEVENT

END:VCALENDAR
