BEGIN:VCALENDAR
VERSION:2.0
PRODID:-//ChamberMaster//Event Calendar 2.0//EN
METHOD:PUBLISH
X-PUBLISHED-TTL:P3D
REFRESH-INTERVAL:P3D
CALSCALE:GREGORIAN
BEGIN:VEVENT
DTSTART:20310514T000000Z
DTEND:20310514T030000Z
X-MICROSOFT-CDO-ALLDAYEVENT:FALSE
SUMMARY:Roswell Independent School Board
DESCRIPTION:Roswell Independent School Board meets the 2nd Tuesday of each month in the AESC Board Room
X-ALT-DESC;FMTTYPE=text/html:Roswell Independent School Board meets the 2nd Tuesday of each month in the AESC Board Room&nbsp\;
LOCATION:
UID:e.743.1407
SEQUENCE:3
DTSTAMP:20260422T044738Z
URL:https://business.roswellnm.org/events/details/roswell-independent-school-board-05-13-2031-1407
END:VEVENT

END:VCALENDAR
