BEGIN:VCALENDAR
VERSION:2.0
PRODID:-//ChamberMaster//Event Calendar 2.0//EN
METHOD:PUBLISH
X-PUBLISHED-TTL:P3D
REFRESH-INTERVAL:P3D
CALSCALE:GREGORIAN
BEGIN:VEVENT
DTSTART:20300624T223000Z
DTEND:20300624T233000Z
X-MICROSOFT-CDO-ALLDAYEVENT:FALSE
SUMMARY:Infrastructure Committee City of Roswell
DESCRIPTION:
X-ALT-DESC;FMTTYPE=text/html:
LOCATION:
UID:e.743.513
SEQUENCE:3
DTSTAMP:20260419T122609Z
URL:https://business.roswellnm.org/events/details/roswell-infrastructure-committee-06-24-2030-513
END:VEVENT

END:VCALENDAR
