BEGIN:VCALENDAR
VERSION:2.0
PRODID:-//ChamberMaster//Event Calendar 2.0//EN
METHOD:PUBLISH
X-PUBLISHED-TTL:P3D
REFRESH-INTERVAL:P3D
CALSCALE:GREGORIAN
BEGIN:VEVENT
DTSTART:20300826T223000Z
DTEND:20300826T233000Z
X-MICROSOFT-CDO-ALLDAYEVENT:FALSE
SUMMARY:Infrastructure Committee City of Roswell
DESCRIPTION:
X-ALT-DESC;FMTTYPE=text/html:
LOCATION:
UID:e.743.515
SEQUENCE:3
DTSTAMP:20260421T143513Z
URL:https://business.roswellnm.org/events/details/roswell-infrastructure-committee-08-26-2030-515
END:VEVENT

END:VCALENDAR
