BEGIN:VCALENDAR
VERSION:2.0
PRODID:-//ChamberMaster//Event Calendar 2.0//EN
METHOD:PUBLISH
X-PUBLISHED-TTL:P3D
REFRESH-INTERVAL:P3D
CALSCALE:GREGORIAN
BEGIN:VEVENT
DTSTART:20300923T223000Z
DTEND:20300923T233000Z
X-MICROSOFT-CDO-ALLDAYEVENT:FALSE
SUMMARY:Infrastructure Committee City of Roswell
DESCRIPTION:
X-ALT-DESC;FMTTYPE=text/html:
LOCATION:
UID:e.743.516
SEQUENCE:3
DTSTAMP:20260421T163338Z
URL:https://business.roswellnm.org/events/details/roswell-infrastructure-committee-09-23-2030-516
END:VEVENT

END:VCALENDAR
