BEGIN:VCALENDAR
VERSION:2.0
PRODID:-//ChamberMaster//Event Calendar 2.0//EN
METHOD:PUBLISH
X-PUBLISHED-TTL:P3D
REFRESH-INTERVAL:P3D
CALSCALE:GREGORIAN
BEGIN:VEVENT
DTSTART:20301028T223000Z
DTEND:20301028T233000Z
X-MICROSOFT-CDO-ALLDAYEVENT:FALSE
SUMMARY:Infrastructure Committee City of Roswell
DESCRIPTION:
X-ALT-DESC;FMTTYPE=text/html:
LOCATION:
UID:e.743.517
SEQUENCE:3
DTSTAMP:20260421T175303Z
URL:https://business.roswellnm.org/events/details/roswell-infrastructure-committee-10-28-2030-517
END:VEVENT

END:VCALENDAR
