BEGIN:VCALENDAR
VERSION:2.0
PRODID:-//ChamberMaster//Event Calendar 2.0//EN
METHOD:PUBLISH
X-PUBLISHED-TTL:P3D
REFRESH-INTERVAL:P3D
CALSCALE:GREGORIAN
BEGIN:VEVENT
DTSTART:20321227T233000Z
DTEND:20321228T003000Z
X-MICROSOFT-CDO-ALLDAYEVENT:FALSE
SUMMARY:Infrastructure Committee City of Roswell
DESCRIPTION:
X-ALT-DESC;FMTTYPE=text/html:
LOCATION:
UID:e.743.543
SEQUENCE:3
DTSTAMP:20260423T095525Z
URL:https://business.roswellnm.org/events/details/roswell-infrastructure-committee-12-27-2032-543
END:VEVENT

END:VCALENDAR
